BEGIN:VCALENDAR
VERSION:2.0
PRODID:-//Somerset-Pulaski Chamber of Commerce - ECPv6.15.20//NONSGML v1.0//EN
CALSCALE:GREGORIAN
METHOD:PUBLISH
X-WR-CALNAME:Somerset-Pulaski Chamber of Commerce
X-ORIGINAL-URL:https://somersetpulaskichamber.com
X-WR-CALDESC:Events for Somerset-Pulaski Chamber of Commerce
REFRESH-INTERVAL;VALUE=DURATION:PT1H
X-Robots-Tag:noindex
X-PUBLISHED-TTL:PT1H
BEGIN:VTIMEZONE
TZID:America/Kentucky/Louisville
BEGIN:DAYLIGHT
TZOFFSETFROM:-0500
TZOFFSETTO:-0400
TZNAME:EDT
DTSTART:20250309T070000
END:DAYLIGHT
BEGIN:STANDARD
TZOFFSETFROM:-0400
TZOFFSETTO:-0500
TZNAME:EST
DTSTART:20251102T060000
END:STANDARD
BEGIN:DAYLIGHT
TZOFFSETFROM:-0500
TZOFFSETTO:-0400
TZNAME:EDT
DTSTART:20260308T070000
END:DAYLIGHT
BEGIN:STANDARD
TZOFFSETFROM:-0400
TZOFFSETTO:-0500
TZNAME:EST
DTSTART:20261101T060000
END:STANDARD
BEGIN:DAYLIGHT
TZOFFSETFROM:-0500
TZOFFSETTO:-0400
TZNAME:EDT
DTSTART:20270314T070000
END:DAYLIGHT
BEGIN:STANDARD
TZOFFSETFROM:-0400
TZOFFSETTO:-0500
TZNAME:EST
DTSTART:20271107T060000
END:STANDARD
END:VTIMEZONE
BEGIN:VEVENT
DTSTART;TZID=America/Kentucky/Louisville:20260306T093000
DTEND;TZID=America/Kentucky/Louisville:20260306T220000
DTSTAMP:20260419T120737
CREATED:20260212T191709Z
LAST-MODIFIED:20260212T191709Z
UID:84306-1772789400-1772834400@somersetpulaskichamber.com
SUMMARY:Ribbon Cutting Celebration – Slade Enterprises\, Inc.
DESCRIPTION:Friday\, March 6th \nRibbon Cutting Celebration – Slade Enterprises\, Inc. \nChamber of Commerce \n236 E. Mt. Vernon Street\, Somerset\, KY 42501 \nAt 9:30 \n  \n 
URL:https://somersetpulaskichamber.com/event-calendar/ribbon-cutting-celebration-slade-enterprises-inc/
LOCATION:Somerset-Pulaski Chamber of Commerce\, 236 East Mt Vernon Street\, Somerset\, KY\, 42501\, United States
CATEGORIES:Ribbon Cuttings
END:VEVENT
BEGIN:VEVENT
DTSTART;TZID=America/Kentucky/Louisville:20260306T120000
DTEND;TZID=America/Kentucky/Louisville:20260306T123000
DTSTAMP:20260419T120737
CREATED:20260227T193457Z
LAST-MODIFIED:20260227T193457Z
UID:84411-1772798400-1772800200@somersetpulaskichamber.com
SUMMARY:Ribbon Cutting Celebration – Mission Massage
DESCRIPTION:Friday\, March 6th \nRibbon Cutting Celebration – Mission Massage \n286 Bogle St\, Somerset\, KY 42503 \n12:00 (Noon)
URL:https://somersetpulaskichamber.com/event-calendar/ribbon-cutting-celebration-mission-massage/
CATEGORIES:Ribbon Cuttings
END:VEVENT
BEGIN:VEVENT
DTSTART;TZID=America/Kentucky/Louisville:20260313T120000
DTEND;TZID=America/Kentucky/Louisville:20260313T123000
DTSTAMP:20260419T120737
CREATED:20260212T194127Z
LAST-MODIFIED:20260212T194127Z
UID:84311-1773403200-1773405000@somersetpulaskichamber.com
SUMMARY:Ribbon Cutting Celebration – Tonic Bar & Lounge
DESCRIPTION:Friday\, March 13th \nRibbon Cutting Celebration – Tonic Bar & Lounge \nTonic Bar & Lounge \n204 E. Mt. Vernon Street\, Somerset\, KY 42501 \nAt 12:00pm
URL:https://somersetpulaskichamber.com/event-calendar/ribbon-cutting-celebration-tonic-bar-lounge/
LOCATION:Tonic Bar & Lounge\, 204 E. Mt. Vernon Street\, Somerset\, Kentucky\, 42501\, United States
CATEGORIES:Events,Ribbon Cuttings
END:VEVENT
END:VCALENDAR