BEGIN:VCALENDAR
VERSION:2.0
PRODID:-//Somerset-Pulaski Chamber of Commerce - ECPv6.15.20//NONSGML v1.0//EN
CALSCALE:GREGORIAN
METHOD:PUBLISH
X-WR-CALNAME:Somerset-Pulaski Chamber of Commerce
X-ORIGINAL-URL:https://somersetpulaskichamber.com
X-WR-CALDESC:Events for Somerset-Pulaski Chamber of Commerce
REFRESH-INTERVAL;VALUE=DURATION:PT1H
X-Robots-Tag:noindex
X-PUBLISHED-TTL:PT1H
BEGIN:VTIMEZONE
TZID:America/Kentucky/Louisville
BEGIN:DAYLIGHT
TZOFFSETFROM:-0500
TZOFFSETTO:-0400
TZNAME:EDT
DTSTART:20250309T070000
END:DAYLIGHT
BEGIN:STANDARD
TZOFFSETFROM:-0400
TZOFFSETTO:-0500
TZNAME:EST
DTSTART:20251102T060000
END:STANDARD
BEGIN:DAYLIGHT
TZOFFSETFROM:-0500
TZOFFSETTO:-0400
TZNAME:EDT
DTSTART:20260308T070000
END:DAYLIGHT
BEGIN:STANDARD
TZOFFSETFROM:-0400
TZOFFSETTO:-0500
TZNAME:EST
DTSTART:20261101T060000
END:STANDARD
BEGIN:DAYLIGHT
TZOFFSETFROM:-0500
TZOFFSETTO:-0400
TZNAME:EDT
DTSTART:20270314T070000
END:DAYLIGHT
BEGIN:STANDARD
TZOFFSETFROM:-0400
TZOFFSETTO:-0500
TZNAME:EST
DTSTART:20271107T060000
END:STANDARD
END:VTIMEZONE
BEGIN:VEVENT
DTSTART;TZID=America/Kentucky/Louisville:20260609T170000
DTEND;TZID=America/Kentucky/Louisville:20260609T210000
DTSTAMP:20260419T134840
CREATED:20260414T182216Z
LAST-MODIFIED:20260414T182216Z
UID:84890-1781024400-1781038800@somersetpulaskichamber.com
SUMMARY:Chamber Night at Eubank Pizza
DESCRIPTION:Tuesday\, June 9th \nChamber Night at Eubank Pizza \nSomerset Location: 4546 South Highway 27 – Somerset\, KY 42501 \nEubank Location: 60 Northern Crossing – Eubank\, KY 42567 \nStarts at 5:00 pm
URL:https://somersetpulaskichamber.com/event-calendar/chamber-night-at-eubank-pizza-15/
LOCATION:Eubank Pizza\, 4546 S. Highway 27\, Somerset\, KY\, 42501\, United States
CATEGORIES:Events
END:VEVENT
END:VCALENDAR