BEGIN:VCALENDAR
VERSION:2.0
PRODID:-//Somerset-Pulaski Chamber of Commerce - ECPv6.15.20//NONSGML v1.0//EN
CALSCALE:GREGORIAN
METHOD:PUBLISH
X-WR-CALNAME:Somerset-Pulaski Chamber of Commerce
X-ORIGINAL-URL:https://somersetpulaskichamber.com
X-WR-CALDESC:Events for Somerset-Pulaski Chamber of Commerce
REFRESH-INTERVAL;VALUE=DURATION:PT1H
X-Robots-Tag:noindex
X-PUBLISHED-TTL:PT1H
BEGIN:VTIMEZONE
TZID:America/Kentucky/Louisville
BEGIN:DAYLIGHT
TZOFFSETFROM:-0500
TZOFFSETTO:-0400
TZNAME:EDT
DTSTART:20250309T070000
END:DAYLIGHT
BEGIN:STANDARD
TZOFFSETFROM:-0400
TZOFFSETTO:-0500
TZNAME:EST
DTSTART:20251102T060000
END:STANDARD
BEGIN:DAYLIGHT
TZOFFSETFROM:-0500
TZOFFSETTO:-0400
TZNAME:EDT
DTSTART:20260308T070000
END:DAYLIGHT
BEGIN:STANDARD
TZOFFSETFROM:-0400
TZOFFSETTO:-0500
TZNAME:EST
DTSTART:20261101T060000
END:STANDARD
BEGIN:DAYLIGHT
TZOFFSETFROM:-0500
TZOFFSETTO:-0400
TZNAME:EDT
DTSTART:20270314T070000
END:DAYLIGHT
BEGIN:STANDARD
TZOFFSETFROM:-0400
TZOFFSETTO:-0500
TZNAME:EST
DTSTART:20271107T060000
END:STANDARD
END:VTIMEZONE
BEGIN:VEVENT
DTSTART;TZID=America/Kentucky/Louisville:20260422T110000
DTEND;TZID=America/Kentucky/Louisville:20260422T130000
DTSTAMP:20260422T014017
CREATED:20260409T185135Z
LAST-MODIFIED:20260409T185135Z
UID:84805-1776855600-1776862800@somersetpulaskichamber.com
SUMMARY:Rogers Scholars 2026 Golf Scramble at Woodson Bend
DESCRIPTION:Wednesday\, April 22nd \nRogers Scholars 2026 Golf Scramble at Woodson Bend \nWoodson Bend Resort \n14 Woodson Bend\, Bronston\, KY \nRegistration 11:00 am\, Shotgun Start at 12:00 pm \n 
URL:https://somersetpulaskichamber.com/event-calendar/rogers-scholars-2026-golf-scramble-at-woodson-bend/
LOCATION:Woodson Bend Resort\, 900 Colyer Rd.\, Bronston\, KY\, 42518\, United States
CATEGORIES:Events
ATTACH;FMTTYPE=image/jpeg:https://somersetpulaskichamber.com/wp-content/uploads/2026/04/Rogers-Scholars-2026.jpg
END:VEVENT
BEGIN:VEVENT
DTSTART;TZID=America/Kentucky/Louisville:20260422T120000
DTEND;TZID=America/Kentucky/Louisville:20260422T130000
DTSTAMP:20260422T014017
CREATED:20260120T193817Z
LAST-MODIFIED:20260120T193817Z
UID:84011-1776859200-1776862800@somersetpulaskichamber.com
SUMMARY:Administrative Professional Tea Party - Expressions Tea and Gifts
DESCRIPTION:Wednesday\, April 22nd \nAdministrative Professional Tea Party \nExpressions Tea and Gifts \n2835 S. Hwy 27\, Suite 372 \nStarts at 12:00 (noon)
URL:https://somersetpulaskichamber.com/event-calendar/administrative-professional-tea-party-expressions-tea-and-gifts/
LOCATION:Expression Tea & Gifts\, 2835 S Hwy 27\, Somerset\, KY\, 42501
CATEGORIES:Events
ATTACH;FMTTYPE=image/jpeg:https://somersetpulaskichamber.com/wp-content/uploads/2026/01/Administrative-Professionals-Day-Tea-Party-2026.jpg
END:VEVENT
END:VCALENDAR