BEGIN:VCALENDAR
VERSION:2.0
PRODID:-//Somerset-Pulaski Chamber of Commerce - ECPv6.15.20//NONSGML v1.0//EN
CALSCALE:GREGORIAN
METHOD:PUBLISH
X-ORIGINAL-URL:https://somersetpulaskichamber.com
X-WR-CALDESC:Events for Somerset-Pulaski Chamber of Commerce
REFRESH-INTERVAL;VALUE=DURATION:PT1H
X-Robots-Tag:noindex
X-PUBLISHED-TTL:PT1H
BEGIN:VTIMEZONE
TZID:America/Kentucky/Louisville
BEGIN:DAYLIGHT
TZOFFSETFROM:-0500
TZOFFSETTO:-0400
TZNAME:EDT
DTSTART:20240310T070000
END:DAYLIGHT
BEGIN:STANDARD
TZOFFSETFROM:-0400
TZOFFSETTO:-0500
TZNAME:EST
DTSTART:20241103T060000
END:STANDARD
BEGIN:DAYLIGHT
TZOFFSETFROM:-0500
TZOFFSETTO:-0400
TZNAME:EDT
DTSTART:20250309T070000
END:DAYLIGHT
BEGIN:STANDARD
TZOFFSETFROM:-0400
TZOFFSETTO:-0500
TZNAME:EST
DTSTART:20251102T060000
END:STANDARD
BEGIN:DAYLIGHT
TZOFFSETFROM:-0500
TZOFFSETTO:-0400
TZNAME:EDT
DTSTART:20260308T070000
END:DAYLIGHT
BEGIN:STANDARD
TZOFFSETFROM:-0400
TZOFFSETTO:-0500
TZNAME:EST
DTSTART:20261101T060000
END:STANDARD
END:VTIMEZONE
BEGIN:VEVENT
DTSTART;TZID=America/Kentucky/Louisville:20250826T170000
DTEND;TZID=America/Kentucky/Louisville:20250826T190000
DTSTAMP:20260425T091825
CREATED:20250806T133230Z
LAST-MODIFIED:20250806T133230Z
UID:82663-1756227600-1756234800@somersetpulaskichamber.com
SUMMARY:Chamber Night-- Tasty Peru
DESCRIPTION:Join us for Chamber Night at Tasty Peru from 5:00pm – 9:00pm. \nPresent your Chamber Member-t0-Member key tag and receive 25% OFF your entire purchase.
URL:https://somersetpulaskichamber.com/event-calendar/chamber-night-tasty-peru-9/
LOCATION:KY
CATEGORIES:Chamber Night
ATTACH;FMTTYPE=image/png:https://somersetpulaskichamber.com/wp-content/uploads/2025/06/ROTISSERIE-CHICKEN.png
END:VEVENT
END:VCALENDAR