BEGIN:VCALENDAR
VERSION:2.0
PRODID:-//Somerset-Pulaski Chamber of Commerce - ECPv6.15.20//NONSGML v1.0//EN
CALSCALE:GREGORIAN
METHOD:PUBLISH
X-ORIGINAL-URL:https://somersetpulaskichamber.com
X-WR-CALDESC:Events for Somerset-Pulaski Chamber of Commerce
REFRESH-INTERVAL;VALUE=DURATION:PT1H
X-Robots-Tag:noindex
X-PUBLISHED-TTL:PT1H
BEGIN:VTIMEZONE
TZID:America/Kentucky/Louisville
BEGIN:DAYLIGHT
TZOFFSETFROM:-0500
TZOFFSETTO:-0400
TZNAME:EDT
DTSTART:20240310T070000
END:DAYLIGHT
BEGIN:STANDARD
TZOFFSETFROM:-0400
TZOFFSETTO:-0500
TZNAME:EST
DTSTART:20241103T060000
END:STANDARD
BEGIN:DAYLIGHT
TZOFFSETFROM:-0500
TZOFFSETTO:-0400
TZNAME:EDT
DTSTART:20250309T070000
END:DAYLIGHT
BEGIN:STANDARD
TZOFFSETFROM:-0400
TZOFFSETTO:-0500
TZNAME:EST
DTSTART:20251102T060000
END:STANDARD
BEGIN:DAYLIGHT
TZOFFSETFROM:-0500
TZOFFSETTO:-0400
TZNAME:EDT
DTSTART:20260308T070000
END:DAYLIGHT
BEGIN:STANDARD
TZOFFSETFROM:-0400
TZOFFSETTO:-0500
TZNAME:EST
DTSTART:20261101T060000
END:STANDARD
END:VTIMEZONE
BEGIN:VEVENT
DTSTART;TZID=America/Kentucky/Louisville:20250820T150000
DTEND;TZID=America/Kentucky/Louisville:20250820T220000
DTSTAMP:20260425T110102
CREATED:20250820T124823Z
LAST-MODIFIED:20250820T124823Z
UID:82767-1755702000-1755727200@somersetpulaskichamber.com
SUMMARY:Thunder Over Burnside
DESCRIPTION:oin Burnside Tourism for Thunder Over Burnside. The fun will include food trucks\, vendors\, a Beer Garden\, live music & more for the entire family. Featured bands are County Wide\, Logan Purcell and the Rachel Crowe Band with Jonathan New. Fireworks will fire off at 9:30pm. Info\, tickets and schedule call 606-561-7117 or https://www.facebook.com/visitburnside/.
URL:https://somersetpulaskichamber.com/event-calendar/thunder-over-burnside/
LOCATION:Cole Park\, Cole park drive\, Burnside\, KY\, 42519\, United States
ATTACH;FMTTYPE=image/jpeg:https://somersetpulaskichamber.com/wp-content/uploads/2025/08/Burnside-Thunder-2025.jpg
END:VEVENT
END:VCALENDAR