BEGIN:VCALENDAR
VERSION:2.0
PRODID:-//Somerset-Pulaski Chamber of Commerce - ECPv6.15.20//NONSGML v1.0//EN
CALSCALE:GREGORIAN
METHOD:PUBLISH
X-ORIGINAL-URL:https://somersetpulaskichamber.com
X-WR-CALDESC:Events for Somerset-Pulaski Chamber of Commerce
REFRESH-INTERVAL;VALUE=DURATION:PT1H
X-Robots-Tag:noindex
X-PUBLISHED-TTL:PT1H
BEGIN:VTIMEZONE
TZID:America/Kentucky/Louisville
BEGIN:DAYLIGHT
TZOFFSETFROM:-0500
TZOFFSETTO:-0400
TZNAME:EDT
DTSTART:20240310T070000
END:DAYLIGHT
BEGIN:STANDARD
TZOFFSETFROM:-0400
TZOFFSETTO:-0500
TZNAME:EST
DTSTART:20241103T060000
END:STANDARD
BEGIN:DAYLIGHT
TZOFFSETFROM:-0500
TZOFFSETTO:-0400
TZNAME:EDT
DTSTART:20250309T070000
END:DAYLIGHT
BEGIN:STANDARD
TZOFFSETFROM:-0400
TZOFFSETTO:-0500
TZNAME:EST
DTSTART:20251102T060000
END:STANDARD
BEGIN:DAYLIGHT
TZOFFSETFROM:-0500
TZOFFSETTO:-0400
TZNAME:EDT
DTSTART:20260308T070000
END:DAYLIGHT
BEGIN:STANDARD
TZOFFSETFROM:-0400
TZOFFSETTO:-0500
TZNAME:EST
DTSTART:20261101T060000
END:STANDARD
END:VTIMEZONE
BEGIN:VEVENT
DTSTART;TZID=America/Kentucky/Louisville:20250816T090000
DTEND;TZID=America/Kentucky/Louisville:20250816T140000
DTSTAMP:20260425T091720
CREATED:20250806T125956Z
LAST-MODIFIED:20250806T125956Z
UID:82646-1755334800-1755352800@somersetpulaskichamber.com
SUMMARY:Fall Into Cash Community Yard Sale
DESCRIPTION:
URL:https://somersetpulaskichamber.com/event-calendar/fall-into-cash-community-yard-sale-7/
LOCATION:KY
ATTACH;FMTTYPE=image/jpeg:https://somersetpulaskichamber.com/wp-content/uploads/2025/08/FALL-INTO.jpg
END:VEVENT
END:VCALENDAR