BEGIN:VCALENDAR
VERSION:2.0
PRODID:-//Somerset-Pulaski Chamber of Commerce - ECPv6.15.20//NONSGML v1.0//EN
CALSCALE:GREGORIAN
METHOD:PUBLISH
X-ORIGINAL-URL:https://somersetpulaskichamber.com
X-WR-CALDESC:Events for Somerset-Pulaski Chamber of Commerce
REFRESH-INTERVAL;VALUE=DURATION:PT1H
X-Robots-Tag:noindex
X-PUBLISHED-TTL:PT1H
BEGIN:VTIMEZONE
TZID:America/Kentucky/Louisville
BEGIN:DAYLIGHT
TZOFFSETFROM:-0500
TZOFFSETTO:-0400
TZNAME:EDT
DTSTART:20240310T070000
END:DAYLIGHT
BEGIN:STANDARD
TZOFFSETFROM:-0400
TZOFFSETTO:-0500
TZNAME:EST
DTSTART:20241103T060000
END:STANDARD
BEGIN:DAYLIGHT
TZOFFSETFROM:-0500
TZOFFSETTO:-0400
TZNAME:EDT
DTSTART:20250309T070000
END:DAYLIGHT
BEGIN:STANDARD
TZOFFSETFROM:-0400
TZOFFSETTO:-0500
TZNAME:EST
DTSTART:20251102T060000
END:STANDARD
BEGIN:DAYLIGHT
TZOFFSETFROM:-0500
TZOFFSETTO:-0400
TZNAME:EDT
DTSTART:20260308T070000
END:DAYLIGHT
BEGIN:STANDARD
TZOFFSETFROM:-0400
TZOFFSETTO:-0500
TZNAME:EST
DTSTART:20261101T060000
END:STANDARD
END:VTIMEZONE
BEGIN:VEVENT
DTSTART;TZID=America/Kentucky/Louisville:20250809T080000
DTEND;TZID=America/Kentucky/Louisville:20250809T130000
DTSTAMP:20260425T093755
CREATED:20250801T193446Z
LAST-MODIFIED:20250801T193446Z
UID:82609-1754726400-1754744400@somersetpulaskichamber.com
SUMMARY:Lake Cumberland Farmers Market - Citizens National Bank Pavilion
DESCRIPTION:Saturday\, August 9th\nLake Cumberland Farmers Market\nCitizens National Bank Pavilion\n405 East Mt. Vernon Street – Somerset\, KY 42501\n8:00am – 1:00pm
URL:https://somersetpulaskichamber.com/event-calendar/lake-cumberland-farmers-market-citizens-national-bank-pavilion-2/
LOCATION:Lake Cumberland Farmers Market\, Lake Cumberland Farmers Market\, 401 E. Mt. Vernon St.\, Somerset\, KY\, United States
CATEGORIES:Events
END:VEVENT
END:VCALENDAR