BEGIN:VCALENDAR
VERSION:2.0
PRODID:-//Somerset-Pulaski Chamber of Commerce - ECPv6.15.20//NONSGML v1.0//EN
CALSCALE:GREGORIAN
METHOD:PUBLISH
X-WR-CALNAME:Somerset-Pulaski Chamber of Commerce
X-ORIGINAL-URL:https://somersetpulaskichamber.com
X-WR-CALDESC:Events for Somerset-Pulaski Chamber of Commerce
REFRESH-INTERVAL;VALUE=DURATION:PT1H
X-Robots-Tag:noindex
X-PUBLISHED-TTL:PT1H
BEGIN:VTIMEZONE
TZID:America/Kentucky/Louisville
BEGIN:DAYLIGHT
TZOFFSETFROM:-0500
TZOFFSETTO:-0400
TZNAME:EDT
DTSTART:20240310T070000
END:DAYLIGHT
BEGIN:STANDARD
TZOFFSETFROM:-0400
TZOFFSETTO:-0500
TZNAME:EST
DTSTART:20241103T060000
END:STANDARD
BEGIN:DAYLIGHT
TZOFFSETFROM:-0500
TZOFFSETTO:-0400
TZNAME:EDT
DTSTART:20250309T070000
END:DAYLIGHT
BEGIN:STANDARD
TZOFFSETFROM:-0400
TZOFFSETTO:-0500
TZNAME:EST
DTSTART:20251102T060000
END:STANDARD
BEGIN:DAYLIGHT
TZOFFSETFROM:-0500
TZOFFSETTO:-0400
TZNAME:EDT
DTSTART:20260308T070000
END:DAYLIGHT
BEGIN:STANDARD
TZOFFSETFROM:-0400
TZOFFSETTO:-0500
TZNAME:EST
DTSTART:20261101T060000
END:STANDARD
END:VTIMEZONE
BEGIN:VEVENT
DTSTART;TZID=America/Kentucky/Louisville:20250806T170000
DTEND;TZID=America/Kentucky/Louisville:20250806T200000
DTSTAMP:20260425T091638
CREATED:20250801T192557Z
LAST-MODIFIED:20250801T192557Z
UID:82601-1754499600-1754510400@somersetpulaskichamber.com
SUMMARY:Back to School with Acapulco Mexican Grill
DESCRIPTION:Wednesday\, August 6th\nBack to School with Acapulco\nAcapulco Mexican Grill\n9249 West Highway 80 – Nancy\, KY 42544\n5:00pm – 8:00pm
URL:https://somersetpulaskichamber.com/event-calendar/back-to-school-with-acapulco-mexican-grill/
LOCATION:Acapulco Mexican Grill\, 9249 West Highway 80\, Nancy\, KY\, 42544\, United States
CATEGORIES:Events
END:VEVENT
END:VCALENDAR