BEGIN:VCALENDAR
VERSION:2.0
PRODID:-//Somerset-Pulaski Chamber of Commerce - ECPv6.15.20//NONSGML v1.0//EN
CALSCALE:GREGORIAN
METHOD:PUBLISH
X-ORIGINAL-URL:https://somersetpulaskichamber.com
X-WR-CALDESC:Events for Somerset-Pulaski Chamber of Commerce
REFRESH-INTERVAL;VALUE=DURATION:PT1H
X-Robots-Tag:noindex
X-PUBLISHED-TTL:PT1H
BEGIN:VTIMEZONE
TZID:America/Kentucky/Louisville
BEGIN:DAYLIGHT
TZOFFSETFROM:-0500
TZOFFSETTO:-0400
TZNAME:EDT
DTSTART:20240310T070000
END:DAYLIGHT
BEGIN:STANDARD
TZOFFSETFROM:-0400
TZOFFSETTO:-0500
TZNAME:EST
DTSTART:20241103T060000
END:STANDARD
BEGIN:DAYLIGHT
TZOFFSETFROM:-0500
TZOFFSETTO:-0400
TZNAME:EDT
DTSTART:20250309T070000
END:DAYLIGHT
BEGIN:STANDARD
TZOFFSETFROM:-0400
TZOFFSETTO:-0500
TZNAME:EST
DTSTART:20251102T060000
END:STANDARD
BEGIN:DAYLIGHT
TZOFFSETFROM:-0500
TZOFFSETTO:-0400
TZNAME:EDT
DTSTART:20260308T070000
END:DAYLIGHT
BEGIN:STANDARD
TZOFFSETFROM:-0400
TZOFFSETTO:-0500
TZNAME:EST
DTSTART:20261101T060000
END:STANDARD
END:VTIMEZONE
BEGIN:VEVENT
DTSTART;TZID=America/Kentucky/Louisville:20250805T110000
DTEND;TZID=America/Kentucky/Louisville:20250805T140000
DTSTAMP:20260425T091721
CREATED:20250801T191752Z
LAST-MODIFIED:20250801T191752Z
UID:82596-1754391600-1754402400@somersetpulaskichamber.com
SUMMARY:Back-to-School Bash! - The Lucky Pint
DESCRIPTION:Tuesday\, August 5th\nBack-to-School Bash!\nThe Lucky Pint\n100 Stonecrest Drive\, Suite 7 – Somerset\, KY 42501\n11:00am – 2:00pm
URL:https://somersetpulaskichamber.com/event-calendar/back-to-school-bash-the-lucky-pint/
LOCATION:Lucky Pint Irish Pub and Kitchen\, 100 Stonecrest Drive STE 7\, Somerset\, KY\, 42501\, United States
CATEGORIES:Events
END:VEVENT
BEGIN:VEVENT
DTSTART;TZID=America/Kentucky/Louisville:20250805T120000
DTEND;TZID=America/Kentucky/Louisville:20250805T130000
DTSTAMP:20260425T091721
CREATED:20250801T192015Z
LAST-MODIFIED:20250801T192015Z
UID:82599-1754395200-1754398800@somersetpulaskichamber.com
SUMMARY:Chamber of Commerce Monthly Luncheon
DESCRIPTION:Tuesday\, August 5th\nChamber of Commerce Monthly Luncheon\nThe Center for Rural Development\n2292 US-27 #300 – Somerset\, KY 42501\n12:00 (noon)
URL:https://somersetpulaskichamber.com/event-calendar/chamber-of-commerce-monthly-luncheon-6/
LOCATION:The Center for Rural Development\, 2292 S. Hwy 27\, Somerset\, KY\, 42503\, United States
CATEGORIES:Events
END:VEVENT
END:VCALENDAR