BEGIN:VCALENDAR
VERSION:2.0
PRODID:-//Somerset-Pulaski Chamber of Commerce - ECPv6.15.20//NONSGML v1.0//EN
CALSCALE:GREGORIAN
METHOD:PUBLISH
X-ORIGINAL-URL:https://somersetpulaskichamber.com
X-WR-CALDESC:Events for Somerset-Pulaski Chamber of Commerce
REFRESH-INTERVAL;VALUE=DURATION:PT1H
X-Robots-Tag:noindex
X-PUBLISHED-TTL:PT1H
BEGIN:VTIMEZONE
TZID:America/Kentucky/Louisville
BEGIN:DAYLIGHT
TZOFFSETFROM:-0500
TZOFFSETTO:-0400
TZNAME:EDT
DTSTART:20240310T070000
END:DAYLIGHT
BEGIN:STANDARD
TZOFFSETFROM:-0400
TZOFFSETTO:-0500
TZNAME:EST
DTSTART:20241103T060000
END:STANDARD
BEGIN:DAYLIGHT
TZOFFSETFROM:-0500
TZOFFSETTO:-0400
TZNAME:EDT
DTSTART:20250309T070000
END:DAYLIGHT
BEGIN:STANDARD
TZOFFSETFROM:-0400
TZOFFSETTO:-0500
TZNAME:EST
DTSTART:20251102T060000
END:STANDARD
BEGIN:DAYLIGHT
TZOFFSETFROM:-0500
TZOFFSETTO:-0400
TZNAME:EDT
DTSTART:20260308T070000
END:DAYLIGHT
BEGIN:STANDARD
TZOFFSETFROM:-0400
TZOFFSETTO:-0500
TZNAME:EST
DTSTART:20261101T060000
END:STANDARD
END:VTIMEZONE
BEGIN:VEVENT
DTSTART;TZID=America/Kentucky/Louisville:20250804T090000
DTEND;TZID=America/Kentucky/Louisville:20250804T140000
DTSTAMP:20260425T110054
CREATED:20250801T190307Z
LAST-MODIFIED:20250801T190307Z
UID:82590-1754298000-1754316000@somersetpulaskichamber.com
SUMMARY:Somerset Farmers Market - Pulaski County Extension Office
DESCRIPTION:Monday\, August 4th\nSomerset Farmers Market – Pulaski County Extension Office\n90 UK Extension Boulevard – Somerset\, KY 42501\n9:00am – 2:00pm
URL:https://somersetpulaskichamber.com/event-calendar/somerset-farmers-market-pulaski-county-extension-office/
LOCATION:Pulaski County Extension Office\, 28 Parkway Drive\, Somerset\, KY
CATEGORIES:Events
END:VEVENT
BEGIN:VEVENT
DTSTART;TZID=America/Kentucky/Louisville:20250804T110000
DTEND;TZID=America/Kentucky/Louisville:20250804T130000
DTSTAMP:20260425T110054
CREATED:20250801T190451Z
LAST-MODIFIED:20250801T190451Z
UID:82592-1754305200-1754312400@somersetpulaskichamber.com
SUMMARY:Back to School Bash - Texas Roadhouse
DESCRIPTION:Monday\, August 4th\nBack to School Bash\nTexas Roadhouse\n100 Stonegate Center – Somerset\, KY 42501\n11:00am – 1:00pm
URL:https://somersetpulaskichamber.com/event-calendar/back-to-school-bash-texas-roadhouse/
LOCATION:Texas Roadhouse\, 100 Stonegate Center\, Somerset\, KY\, 42501\, United States
CATEGORIES:Events
END:VEVENT
BEGIN:VEVENT
DTSTART;TZID=America/Kentucky/Louisville:20250804T170000
DTEND;TZID=America/Kentucky/Louisville:20250804T210000
DTSTAMP:20260425T110054
CREATED:20250801T190714Z
LAST-MODIFIED:20250804T130744Z
UID:82594-1754326800-1754341200@somersetpulaskichamber.com
SUMMARY:Chamber Night at the Cumberland Grill
DESCRIPTION:Monday\, August 4th\nChamber Night at The Cumberland Grill\n6075 South Highway 27 – Somerset\, KY 42501\nStarts at 5:00pm
URL:https://somersetpulaskichamber.com/event-calendar/chamber-night-at-the-cumberland-grill/
LOCATION:Cumberland Grill\, 6075 South Highway 27\, Somerset\, KY\, 42501\, United States
CATEGORIES:Chamber Night,Events
END:VEVENT
END:VCALENDAR