BEGIN:VCALENDAR
VERSION:2.0
PRODID:-//Somerset-Pulaski Chamber of Commerce - ECPv6.15.20//NONSGML v1.0//EN
CALSCALE:GREGORIAN
METHOD:PUBLISH
X-WR-CALNAME:Somerset-Pulaski Chamber of Commerce
X-ORIGINAL-URL:https://somersetpulaskichamber.com
X-WR-CALDESC:Events for Somerset-Pulaski Chamber of Commerce
REFRESH-INTERVAL;VALUE=DURATION:PT1H
X-Robots-Tag:noindex
X-PUBLISHED-TTL:PT1H
BEGIN:VTIMEZONE
TZID:America/Kentucky/Louisville
BEGIN:DAYLIGHT
TZOFFSETFROM:-0500
TZOFFSETTO:-0400
TZNAME:EDT
DTSTART:20240310T070000
END:DAYLIGHT
BEGIN:STANDARD
TZOFFSETFROM:-0400
TZOFFSETTO:-0500
TZNAME:EST
DTSTART:20241103T060000
END:STANDARD
BEGIN:DAYLIGHT
TZOFFSETFROM:-0500
TZOFFSETTO:-0400
TZNAME:EDT
DTSTART:20250309T070000
END:DAYLIGHT
BEGIN:STANDARD
TZOFFSETFROM:-0400
TZOFFSETTO:-0500
TZNAME:EST
DTSTART:20251102T060000
END:STANDARD
BEGIN:DAYLIGHT
TZOFFSETFROM:-0500
TZOFFSETTO:-0400
TZNAME:EDT
DTSTART:20260308T070000
END:DAYLIGHT
BEGIN:STANDARD
TZOFFSETFROM:-0400
TZOFFSETTO:-0500
TZNAME:EST
DTSTART:20261101T060000
END:STANDARD
END:VTIMEZONE
BEGIN:VEVENT
DTSTART;TZID=America/Kentucky/Louisville:20250801T203000
DTEND;TZID=America/Kentucky/Louisville:20250801T223000
DTSTAMP:20260425T091637
CREATED:20250801T185331Z
LAST-MODIFIED:20250801T185331Z
UID:82584-1754080200-1754087400@somersetpulaskichamber.com
SUMMARY:Community Movie Night - Firebrook Park
DESCRIPTION:Community Movie Night\nFirebrook Park\n40 Firebrook Drive – Somerset\, KY 42501\n8:30pm – 10:30pm
URL:https://somersetpulaskichamber.com/event-calendar/community-movie-night-firebrook-park/
LOCATION:Firebrook Community Park\, 40 Firebrook Drive\, Somerset\, KY\, 42503\, United States
CATEGORIES:Events
END:VEVENT
END:VCALENDAR